BEGIN:VCALENDAR
VERSION:2.0
PRODID:-//Miroglio Heritage - ECPv6.5.1.6//NONSGML v1.0//EN
CALSCALE:GREGORIAN
METHOD:PUBLISH
X-WR-CALNAME:Miroglio Heritage
X-ORIGINAL-URL:https://heritage.miroglio.com
X-WR-CALDESC:Eventi per Miroglio Heritage
REFRESH-INTERVAL;VALUE=DURATION:PT1H
X-Robots-Tag:noindex
X-PUBLISHED-TTL:PT1H
BEGIN:VTIMEZONE
TZID:Europe/Rome
BEGIN:DAYLIGHT
TZOFFSETFROM:+0100
TZOFFSETTO:+0200
TZNAME:CEST
DTSTART:20250330T010000
END:DAYLIGHT
BEGIN:STANDARD
TZOFFSETFROM:+0200
TZOFFSETTO:+0100
TZNAME:CET
DTSTART:20251026T010000
END:STANDARD
BEGIN:DAYLIGHT
TZOFFSETFROM:+0100
TZOFFSETTO:+0200
TZNAME:CEST
DTSTART:20260329T010000
END:DAYLIGHT
BEGIN:STANDARD
TZOFFSETFROM:+0200
TZOFFSETTO:+0100
TZNAME:CET
DTSTART:20261025T010000
END:STANDARD
END:VTIMEZONE
BEGIN:VEVENT
DTSTART;TZID=Europe/Rome:20250512T090000
DTEND;TZID=Europe/Rome:20250512T121500
DTSTAMP:20260419T180920
CREATED:20250422T124838Z
LAST-MODIFIED:20250422T124838Z
UID:10000048-1747040400-1747052100@heritage.miroglio.com
SUMMARY:CORSO DI INGLESE: livello base e avanzato - LEZIONE 2
DESCRIPTION:Orari: \nLIvello base: ore 9.00 – 10.30\nLivello avanzato: ore 10.45 – 12.15
URL:https://heritage.miroglio.com/event/corso-di-inglese-livello-base-e-avanzato-lezione-2-2/
LOCATION:Nome Luogo: Sala Miroglio Heritage\, Indirizzo: \, Via Santa Barbara 11\, Città: Alba\, Italia
CATEGORIES:COMMISSIONE CRESCERE
END:VEVENT
BEGIN:VEVENT
DTSTART;TZID=Europe/Rome:20250515T173000
DTEND;TZID=Europe/Rome:20250515T190000
DTSTAMP:20260419T180920
CREATED:20250316T154944Z
LAST-MODIFIED:20250316T154944Z
UID:10000046-1747330200-1747335600@heritage.miroglio.com
SUMMARY:PROIEZIONI D'AUTORE - seconda edizione: docufilm di Remo Schellino "Venire al Mondo"
DESCRIPTION:
URL:https://heritage.miroglio.com/event/proiezioni-dautore-seconda-edizione-docufilm-di-remo-schellino-venire-al-mondo/
LOCATION:Sala Roma\, Via Santa Barbara 11\, Alba
CATEGORIES:COMMISSIONE RACCONTARE
END:VEVENT
BEGIN:VEVENT
DTSTART;TZID=Europe/Rome:20250519T090000
DTEND;TZID=Europe/Rome:20250519T121500
DTSTAMP:20260419T180920
CREATED:20250422T124911Z
LAST-MODIFIED:20250422T124911Z
UID:10000049-1747645200-1747656900@heritage.miroglio.com
SUMMARY:CORSO DI INGLESE: livello base e avanzato - LEZIONE 3
DESCRIPTION:Orari: \nLIvello base: ore 9.00 – 10.30\nLivello avanzato: ore 10.45 – 12.15
URL:https://heritage.miroglio.com/event/corso-di-inglese-livello-base-e-avanzato-lezione-3-2/
LOCATION:Nome Luogo: Sala Miroglio Heritage\, Indirizzo: \, Via Santa Barbara 11\, Città: Alba\, Italia
CATEGORIES:COMMISSIONE CRESCERE
END:VEVENT
BEGIN:VEVENT
DTSTART;TZID=Europe/Rome:20250526T090000
DTEND;TZID=Europe/Rome:20250526T121500
DTSTAMP:20260419T180920
CREATED:20250422T124940Z
LAST-MODIFIED:20250422T124940Z
UID:10000050-1748250000-1748261700@heritage.miroglio.com
SUMMARY:CORSO DI INGLESE: livello base e avanzato - LEZIONE 4
DESCRIPTION:Orari:\nLIvello base: ore 9.00 – 10.30\nLivello avanzato: ore 10.45 – 12.15
URL:https://heritage.miroglio.com/event/corso-di-inglese-livello-base-e-avanzato-lezione-4-2/
LOCATION:Nome Luogo: Sala Miroglio Heritage\, Indirizzo: \, Via Santa Barbara 11\, Città: Alba\, Italia
CATEGORIES:COMMISSIONE CRESCERE
END:VEVENT
BEGIN:VEVENT
DTSTART;TZID=Europe/Rome:20250603T090000
DTEND;TZID=Europe/Rome:20250603T121500
DTSTAMP:20260419T180920
CREATED:20250422T125002Z
LAST-MODIFIED:20250422T125002Z
UID:10000051-1748941200-1748952900@heritage.miroglio.com
SUMMARY:CORSO DI INGLESE: livello base e avanzato - LEZIONE 5
DESCRIPTION:CORSO DI INGLESE: livello base e avanzato – LEZIONE 5 \nOrari:\nLIvello base: ore 9.00 – 10.30\nLivello avanzato: ore 10.45 – 12.15
URL:https://heritage.miroglio.com/event/corso-di-inglese-livello-base-e-avanzato-lezione-5-2/
LOCATION:Nome Luogo: Sala Miroglio Heritage\, Indirizzo: \, Via Santa Barbara 11\, Città: Alba\, Italia
CATEGORIES:COMMISSIONE CRESCERE
END:VEVENT
BEGIN:VEVENT
DTSTART;TZID=Europe/Rome:20250902T100000
DTEND;TZID=Europe/Rome:20250902T120000
DTSTAMP:20260419T180920
CREATED:20250827T081816Z
LAST-MODIFIED:20250827T081838Z
UID:10000052-1756807200-1756814400@heritage.miroglio.com
SUMMARY:CORSO INTELLIGENZA ARTIFICIALE AL TUO SERVIZIO – Strumenti semplici per la vita quotidiana
DESCRIPTION:Un corso pensato per scoprire come l’Intelligenza Artificiale può diventare un alleato concreto nelle attività di tutti i giorni. \n 
URL:https://heritage.miroglio.com/event/corso-intelligenza-artificiale-al-tuo-servizio-strumenti-semplici-per-la-vita-quotidiana/
LOCATION:Sala Roma\, Via Santa Barbara 11\, Alba
CATEGORIES:COMMISSIONE CRESCERE
END:VEVENT
BEGIN:VEVENT
DTSTART;TZID=Europe/Rome:20250909T100000
DTEND;TZID=Europe/Rome:20250909T120000
DTSTAMP:20260419T180920
CREATED:20250827T082155Z
LAST-MODIFIED:20250827T084307Z
UID:10000053-1757412000-1757419200@heritage.miroglio.com
SUMMARY:CORSO INTELLIGENZA ARTIFICIALE AL TUO SERVIZIO – Strumenti semplici per la vita quotidiana
DESCRIPTION:Un corso pensato per scoprire come l’Intelligenza Artificiale può diventare un alleato concreto nelle attività di tutti i giorni. \n 
URL:https://heritage.miroglio.com/event/corso-intelligenza-artificiale-al-tuo-servizio-strumenti-semplici-per-la-vita-quotidiana-2/
LOCATION:Sala Roma\, Via Santa Barbara 11\, Alba
CATEGORIES:COMMISSIONE CRESCERE
END:VEVENT
BEGIN:VEVENT
DTSTART;TZID=Europe/Rome:20250916T100000
DTEND;TZID=Europe/Rome:20250916T104500
DTSTAMP:20260419T180920
CREATED:20250827T082834Z
LAST-MODIFIED:20250827T084142Z
UID:10000054-1758016800-1758019500@heritage.miroglio.com
SUMMARY:PILATES - Corso del mercoledì
DESCRIPTION:Riparte con i corsi di Pilates con i seguenti appuntamenti settimanali: \n\nMartedì:\n\ndalle 10:00 alle 10:45\ndalle 11:00 alle 11:45\n\n\nGiovedì:\n\ndalle 11:00 alle 11:45
URL:https://heritage.miroglio.com/event/pilates-corso-del-mercoledi-2/
LOCATION:Quiet Room\, VIA SANTA BARBARA 11\, Alba\, Italia
CATEGORIES:COMMISSIONE CRESCERE
END:VEVENT
BEGIN:VEVENT
DTSTART;TZID=Europe/Rome:20250917T173000
DTEND;TZID=Europe/Rome:20250917T193000
DTSTAMP:20260419T180920
CREATED:20250827T094400Z
LAST-MODIFIED:20250827T094419Z
UID:10000084-1758130200-1758137400@heritage.miroglio.com
SUMMARY:INCONTRO PASSI IN SALUTE: Suggerimenti pratici per mantenersi fisicamente attivi
DESCRIPTION:Con la partecipazione della Dott.ssa Anna Mulasso\, ricercatrice del Dipartimento di Scienze Mediche e professoressa Associata dell’Università di Torino.
URL:https://heritage.miroglio.com/event/incontro-passi-in-salute-suggerimenti-pratici-per-mantenersi-fisicamente-attivi/
LOCATION:Sala Roma\, Via Santa Barbara 11\, Alba
CATEGORIES:COMMISSIONE SOSTENERE
END:VEVENT
BEGIN:VEVENT
DTSTART;TZID=Europe/Rome:20250924T093000
DTEND;TZID=Europe/Rome:20250924T113000
DTSTAMP:20260419T180920
CREATED:20250827T091333Z
LAST-MODIFIED:20250827T092205Z
UID:10000056-1758706200-1758713400@heritage.miroglio.com
SUMMARY:CORSO DI DISEGNO e PITTURA con Teresita
DESCRIPTION:Continua il Corso di Disegno e Pittura con Teresita Terreno\, insegnante di educazione artistica\, pittrice e incisora.
URL:https://heritage.miroglio.com/event/corso-di-disegno-e-pittura-con-teresita-2/2025-09-24/
LOCATION:Nome Luogo: Sala Miroglio Heritage\, Indirizzo: \, Via Santa Barbara 11\, Città: Alba\, Italia
CATEGORIES:COMMISSIONE CRESCERE
END:VEVENT
BEGIN:VEVENT
DTSTART;TZID=Europe/Rome:20250929T171500
DTEND;TZID=Europe/Rome:20250929T193000
DTSTAMP:20260419T180920
CREATED:20250827T094708Z
LAST-MODIFIED:20250917T065635Z
UID:10000085-1759166100-1759174200@heritage.miroglio.com
SUMMARY:CAMMINATA DI GRUPPO ASSISTITA
DESCRIPTION:Partenza dalla sede del Gruppo Miroglio\, in via Santa Barbara 11\, Camminata di gruppo assistita\, con misurazione di alcuni parametri fisiologici (pressione\, glicemia\, ecc) prima e dopo l’esercizio.
URL:https://heritage.miroglio.com/event/camminata-di-gruppo-assistita/
LOCATION:Sala Roma\, Via Santa Barbara 11\, Alba
CATEGORIES:COMMISSIONE SOSTENERE
END:VEVENT
BEGIN:VEVENT
DTSTART;TZID=Europe/Rome:20251001T093000
DTEND;TZID=Europe/Rome:20251001T113000
DTSTAMP:20260419T180920
CREATED:20250827T091333Z
LAST-MODIFIED:20250827T092205Z
UID:10000075-1759311000-1759318200@heritage.miroglio.com
SUMMARY:CORSO DI DISEGNO e PITTURA con Teresita
DESCRIPTION:Continua il Corso di Disegno e Pittura con Teresita Terreno\, insegnante di educazione artistica\, pittrice e incisora.
URL:https://heritage.miroglio.com/event/corso-di-disegno-e-pittura-con-teresita-2/2025-10-01/
LOCATION:Nome Luogo: Sala Miroglio Heritage\, Indirizzo: \, Via Santa Barbara 11\, Città: Alba\, Italia
CATEGORIES:COMMISSIONE CRESCERE
END:VEVENT
BEGIN:VEVENT
DTSTART;TZID=Europe/Rome:20251007T170000
DTEND;TZID=Europe/Rome:20251007T183000
DTSTAMP:20260419T180920
CREATED:20250827T095625Z
LAST-MODIFIED:20250827T095634Z
UID:10000086-1759856400-1759861800@heritage.miroglio.com
SUMMARY:PROGETTO: L'AMICO CHE NON CONOSCO
DESCRIPTION:L’amico che non conosco” è un progetto che fonde musica e storytelling per accompagnarci in un viaggio personale e collettivo sul tema della donazione di organi e della sostenibilità. \nA guidarci sarà Alessandro Casalis\, cantautore e autore del format\, che condividerà con noi la sua storia personale. \nIl progetto nasce in collaborazione con AIDO Piemonte e Limo Comunicazione.
URL:https://heritage.miroglio.com/event/progetto-lamico-che-non-conosco/
LOCATION:Palablack Miroglio Group\, Via Santa Barbara\, 11\, Alba
CATEGORIES:COMMISSIONE CRESCERE
END:VEVENT
BEGIN:VEVENT
DTSTART;TZID=Europe/Rome:20251008T093000
DTEND;TZID=Europe/Rome:20251008T113000
DTSTAMP:20260419T180920
CREATED:20250827T091333Z
LAST-MODIFIED:20250827T092205Z
UID:10000076-1759915800-1759923000@heritage.miroglio.com
SUMMARY:CORSO DI DISEGNO e PITTURA con Teresita
DESCRIPTION:Continua il Corso di Disegno e Pittura con Teresita Terreno\, insegnante di educazione artistica\, pittrice e incisora.
URL:https://heritage.miroglio.com/event/corso-di-disegno-e-pittura-con-teresita-2/2025-10-08/
LOCATION:Nome Luogo: Sala Miroglio Heritage\, Indirizzo: \, Via Santa Barbara 11\, Città: Alba\, Italia
CATEGORIES:COMMISSIONE CRESCERE
END:VEVENT
BEGIN:VEVENT
DTSTART;TZID=Europe/Rome:20251013T173000
DTEND;TZID=Europe/Rome:20251013T173000
DTSTAMP:20260419T180920
CREATED:20251007T140807Z
LAST-MODIFIED:20251007T141034Z
UID:10000087-1760376600-1760376600@heritage.miroglio.com
SUMMARY:PROIEZIONI D'AUTORE - DOCUFILM "Andare all'altro mondo. Riti\, credenze\, pensieri e conversazioni”
DESCRIPTION:
URL:https://heritage.miroglio.com/event/proiezioni-dautore-docufilm-andare-allaltro-mondo-riti-credenze-pensieri-e-conversazioni/
LOCATION:Sala Roma\, Via Santa Barbara 11\, Alba
CATEGORIES:COMMISSIONE RACCONTARE
END:VEVENT
BEGIN:VEVENT
DTSTART;TZID=Europe/Rome:20251015T093000
DTEND;TZID=Europe/Rome:20251015T113000
DTSTAMP:20260419T180920
CREATED:20250827T091333Z
LAST-MODIFIED:20250827T092205Z
UID:10000077-1760520600-1760527800@heritage.miroglio.com
SUMMARY:CORSO DI DISEGNO e PITTURA con Teresita
DESCRIPTION:Continua il Corso di Disegno e Pittura con Teresita Terreno\, insegnante di educazione artistica\, pittrice e incisora.
URL:https://heritage.miroglio.com/event/corso-di-disegno-e-pittura-con-teresita-2/2025-10-15/
LOCATION:Nome Luogo: Sala Miroglio Heritage\, Indirizzo: \, Via Santa Barbara 11\, Città: Alba\, Italia
CATEGORIES:COMMISSIONE CRESCERE
END:VEVENT
BEGIN:VEVENT
DTSTART;TZID=Europe/Rome:20251022T093000
DTEND;TZID=Europe/Rome:20251022T113000
DTSTAMP:20260419T180920
CREATED:20250827T091333Z
LAST-MODIFIED:20250827T092205Z
UID:10000078-1761125400-1761132600@heritage.miroglio.com
SUMMARY:CORSO DI DISEGNO e PITTURA con Teresita
DESCRIPTION:Continua il Corso di Disegno e Pittura con Teresita Terreno\, insegnante di educazione artistica\, pittrice e incisora.
URL:https://heritage.miroglio.com/event/corso-di-disegno-e-pittura-con-teresita-2/2025-10-22/
LOCATION:Nome Luogo: Sala Miroglio Heritage\, Indirizzo: \, Via Santa Barbara 11\, Città: Alba\, Italia
CATEGORIES:COMMISSIONE CRESCERE
END:VEVENT
BEGIN:VEVENT
DTSTART;TZID=Europe/Rome:20251029T093000
DTEND;TZID=Europe/Rome:20251029T113000
DTSTAMP:20260419T180920
CREATED:20250827T091333Z
LAST-MODIFIED:20250827T092205Z
UID:10000079-1761730200-1761737400@heritage.miroglio.com
SUMMARY:CORSO DI DISEGNO e PITTURA con Teresita
DESCRIPTION:Continua il Corso di Disegno e Pittura con Teresita Terreno\, insegnante di educazione artistica\, pittrice e incisora.
URL:https://heritage.miroglio.com/event/corso-di-disegno-e-pittura-con-teresita-2/2025-10-29/
LOCATION:Nome Luogo: Sala Miroglio Heritage\, Indirizzo: \, Via Santa Barbara 11\, Città: Alba\, Italia
CATEGORIES:COMMISSIONE CRESCERE
END:VEVENT
BEGIN:VEVENT
DTSTART;TZID=Europe/Rome:20251105T093000
DTEND;TZID=Europe/Rome:20251105T113000
DTSTAMP:20260419T180920
CREATED:20250827T091333Z
LAST-MODIFIED:20250827T092205Z
UID:10000080-1762335000-1762342200@heritage.miroglio.com
SUMMARY:CORSO DI DISEGNO e PITTURA con Teresita
DESCRIPTION:Continua il Corso di Disegno e Pittura con Teresita Terreno\, insegnante di educazione artistica\, pittrice e incisora.
URL:https://heritage.miroglio.com/event/corso-di-disegno-e-pittura-con-teresita-2/2025-11-05/
LOCATION:Nome Luogo: Sala Miroglio Heritage\, Indirizzo: \, Via Santa Barbara 11\, Città: Alba\, Italia
CATEGORIES:COMMISSIONE CRESCERE
END:VEVENT
BEGIN:VEVENT
DTSTART;TZID=Europe/Rome:20251110T173000
DTEND;TZID=Europe/Rome:20251110T173000
DTSTAMP:20260419T180920
CREATED:20251104T105351Z
LAST-MODIFIED:20251104T105351Z
UID:10000088-1762795800-1762795800@heritage.miroglio.com
SUMMARY:Corso Personaggi Storici Albesi
DESCRIPTION:
URL:https://heritage.miroglio.com/event/corso-personaggi-storici-albesi-2/
LOCATION:Sala Roma\, Via Santa Barbara 11\, Alba
END:VEVENT
BEGIN:VEVENT
DTSTART;TZID=Europe/Rome:20251112T093000
DTEND;TZID=Europe/Rome:20251112T113000
DTSTAMP:20260419T180920
CREATED:20250827T091333Z
LAST-MODIFIED:20250827T092205Z
UID:10000081-1762939800-1762947000@heritage.miroglio.com
SUMMARY:CORSO DI DISEGNO e PITTURA con Teresita
DESCRIPTION:Continua il Corso di Disegno e Pittura con Teresita Terreno\, insegnante di educazione artistica\, pittrice e incisora.
URL:https://heritage.miroglio.com/event/corso-di-disegno-e-pittura-con-teresita-2/2025-11-12/
LOCATION:Nome Luogo: Sala Miroglio Heritage\, Indirizzo: \, Via Santa Barbara 11\, Città: Alba\, Italia
CATEGORIES:COMMISSIONE CRESCERE
END:VEVENT
BEGIN:VEVENT
DTSTART;TZID=Europe/Rome:20251119T093000
DTEND;TZID=Europe/Rome:20251119T113000
DTSTAMP:20260419T180920
CREATED:20250827T091333Z
LAST-MODIFIED:20250827T092205Z
UID:10000082-1763544600-1763551800@heritage.miroglio.com
SUMMARY:CORSO DI DISEGNO e PITTURA con Teresita
DESCRIPTION:Continua il Corso di Disegno e Pittura con Teresita Terreno\, insegnante di educazione artistica\, pittrice e incisora.
URL:https://heritage.miroglio.com/event/corso-di-disegno-e-pittura-con-teresita-2/2025-11-19/
LOCATION:Nome Luogo: Sala Miroglio Heritage\, Indirizzo: \, Via Santa Barbara 11\, Città: Alba\, Italia
CATEGORIES:COMMISSIONE CRESCERE
END:VEVENT
BEGIN:VEVENT
DTSTART;TZID=Europe/Rome:20251120T173000
DTEND;TZID=Europe/Rome:20251120T173000
DTSTAMP:20260419T180920
CREATED:20251104T113326Z
LAST-MODIFIED:20251104T113326Z
UID:10000089-1763659800-1763659800@heritage.miroglio.com
SUMMARY:Progetto Stile di Vita sano e attivo nella popolazione over 60
DESCRIPTION:Incontro prevenzione BENESSERE POSTURALE E RESPIRATORIO con il Dott. Luca Beratto\, Ricercatore Dipartimento Scienze Mediche.
URL:https://heritage.miroglio.com/event/progetto-stile-di-vita-sano-e-attivo-nella-popolazione-over-60/
LOCATION:Sala Roma\, Via Santa Barbara 11\, Alba
END:VEVENT
BEGIN:VEVENT
DTSTART;TZID=Europe/Rome:20251121T080000
DTEND;TZID=Europe/Rome:20251121T080000
DTSTAMP:20260419T180920
CREATED:20251104T113506Z
LAST-MODIFIED:20251104T113506Z
UID:10000090-1763712000-1763712000@heritage.miroglio.com
SUMMARY:Visita al Museo Egizio di Torino
DESCRIPTION:
URL:https://heritage.miroglio.com/event/visita-al-museo-egizio-di-torino/
END:VEVENT
BEGIN:VEVENT
DTSTART;TZID=Europe/Rome:20251126T093000
DTEND;TZID=Europe/Rome:20251126T113000
DTSTAMP:20260419T180920
CREATED:20250827T091333Z
LAST-MODIFIED:20250827T092205Z
UID:10000083-1764149400-1764156600@heritage.miroglio.com
SUMMARY:CORSO DI DISEGNO e PITTURA con Teresita
DESCRIPTION:Continua il Corso di Disegno e Pittura con Teresita Terreno\, insegnante di educazione artistica\, pittrice e incisora.
URL:https://heritage.miroglio.com/event/corso-di-disegno-e-pittura-con-teresita-2/2025-11-26/
LOCATION:Nome Luogo: Sala Miroglio Heritage\, Indirizzo: \, Via Santa Barbara 11\, Città: Alba\, Italia
CATEGORIES:COMMISSIONE CRESCERE
END:VEVENT
BEGIN:VEVENT
DTSTART;TZID=Europe/Rome:20251203T173000
DTEND;TZID=Europe/Rome:20251203T173000
DTSTAMP:20260419T180920
CREATED:20251104T114140Z
LAST-MODIFIED:20251104T114140Z
UID:10000091-1764783000-1764783000@heritage.miroglio.com
SUMMARY:Progetto Stile di Vita sano e attivo nella popolazione over 60
DESCRIPTION:LABORATORIO prevenzione BENESSERE POSTURALE E RESPIRATORIO
URL:https://heritage.miroglio.com/event/progetto-stile-di-vita-sano-e-attivo-nella-popolazione-over-60-2/
LOCATION:Sala Roma\, Via Santa Barbara 11\, Alba
END:VEVENT
BEGIN:VEVENT
DTSTART;TZID=Europe/Rome:20251218T103000
DTEND;TZID=Europe/Rome:20251218T103000
DTSTAMP:20260419T180920
CREATED:20251104T114300Z
LAST-MODIFIED:20251104T114300Z
UID:10000092-1766053800-1766053800@heritage.miroglio.com
SUMMARY:Brindisi di Natale
DESCRIPTION:
URL:https://heritage.miroglio.com/event/brindisi-di-natale-2/
END:VEVENT
BEGIN:VEVENT
DTSTART;TZID=Europe/Rome:20260114T093000
DTEND;TZID=Europe/Rome:20260114T113000
DTSTAMP:20260419T180920
CREATED:20260128T162150Z
LAST-MODIFIED:20260128T162150Z
UID:10000093-1768383000-1768390200@heritage.miroglio.com
SUMMARY:CORSO DI PITTURA
DESCRIPTION:
URL:https://heritage.miroglio.com/event/corso-di-pittura/
LOCATION:Sala Miroglio Heritage\, Via Santa Barbara 11\, Alba
CATEGORIES:COMMISSIONE CRESCERE
END:VEVENT
BEGIN:VEVENT
DTSTART;TZID=Europe/Rome:20260119T090000
DTEND;TZID=Europe/Rome:20260119T120000
DTSTAMP:20260419T180920
CREATED:20260128T165052Z
LAST-MODIFIED:20260128T165109Z
UID:10000104-1768813200-1768824000@heritage.miroglio.com
SUMMARY:CORSO DI CUCINA
DESCRIPTION:
URL:https://heritage.miroglio.com/event/corso-di-cucina/
LOCATION:APRO\, Alba
CATEGORIES:COMMISSIONE CRESCERE
END:VEVENT
BEGIN:VEVENT
DTSTART;TZID=Europe/Rome:20260121T093000
DTEND;TZID=Europe/Rome:20260121T093000
DTSTAMP:20260419T180920
CREATED:20260128T162454Z
LAST-MODIFIED:20260128T163013Z
UID:10000094-1768987800-1768987800@heritage.miroglio.com
SUMMARY:CORSO DI PITTURA
DESCRIPTION:
URL:https://heritage.miroglio.com/event/corso-di-pittura-2/
LOCATION:Sala Miroglio Heritage\, Via Santa Barbara 11\, Alba
CATEGORIES:COMMISSIONE CRESCERE
END:VEVENT
END:VCALENDAR