BEGIN:VCALENDAR
VERSION:2.0
PRODID:-//Miroglio Heritage - ECPv6.5.1.6//NONSGML v1.0//EN
CALSCALE:GREGORIAN
METHOD:PUBLISH
X-ORIGINAL-URL:https://heritage.miroglio.com
X-WR-CALDESC:Eventi per Miroglio Heritage
REFRESH-INTERVAL;VALUE=DURATION:PT1H
X-Robots-Tag:noindex
X-PUBLISHED-TTL:PT1H
BEGIN:VTIMEZONE
TZID:Europe/Rome
BEGIN:DAYLIGHT
TZOFFSETFROM:+0100
TZOFFSETTO:+0200
TZNAME:CEST
DTSTART:20250330T010000
END:DAYLIGHT
BEGIN:STANDARD
TZOFFSETFROM:+0200
TZOFFSETTO:+0100
TZNAME:CET
DTSTART:20251026T010000
END:STANDARD
BEGIN:DAYLIGHT
TZOFFSETFROM:+0100
TZOFFSETTO:+0200
TZNAME:CEST
DTSTART:20260329T010000
END:DAYLIGHT
BEGIN:STANDARD
TZOFFSETFROM:+0200
TZOFFSETTO:+0100
TZNAME:CET
DTSTART:20261025T010000
END:STANDARD
END:VTIMEZONE
BEGIN:VEVENT
DTSTART;TZID=Europe/Rome:20251126T093000
DTEND;TZID=Europe/Rome:20251126T113000
DTSTAMP:20260425T140909
CREATED:20250827T091333Z
LAST-MODIFIED:20250827T092205Z
UID:10000083-1764149400-1764156600@heritage.miroglio.com
SUMMARY:CORSO DI DISEGNO e PITTURA con Teresita
DESCRIPTION:Continua il Corso di Disegno e Pittura con Teresita Terreno\, insegnante di educazione artistica\, pittrice e incisora.
URL:https://heritage.miroglio.com/event/corso-di-disegno-e-pittura-con-teresita-2/2025-11-26/
LOCATION:Nome Luogo: Sala Miroglio Heritage\, Indirizzo: \, Via Santa Barbara 11\, Città: Alba\, Italia
CATEGORIES:COMMISSIONE CRESCERE
END:VEVENT
BEGIN:VEVENT
DTSTART;TZID=Europe/Rome:20251203T173000
DTEND;TZID=Europe/Rome:20251203T173000
DTSTAMP:20260425T140909
CREATED:20251104T114140Z
LAST-MODIFIED:20251104T114140Z
UID:10000091-1764783000-1764783000@heritage.miroglio.com
SUMMARY:Progetto Stile di Vita sano e attivo nella popolazione over 60
DESCRIPTION:LABORATORIO prevenzione BENESSERE POSTURALE E RESPIRATORIO
URL:https://heritage.miroglio.com/event/progetto-stile-di-vita-sano-e-attivo-nella-popolazione-over-60-2/
LOCATION:Sala Roma\, Via Santa Barbara 11\, Alba
END:VEVENT
BEGIN:VEVENT
DTSTART;TZID=Europe/Rome:20251218T103000
DTEND;TZID=Europe/Rome:20251218T103000
DTSTAMP:20260425T140909
CREATED:20251104T114300Z
LAST-MODIFIED:20251104T114300Z
UID:10000092-1766053800-1766053800@heritage.miroglio.com
SUMMARY:Brindisi di Natale
DESCRIPTION:
URL:https://heritage.miroglio.com/event/brindisi-di-natale-2/
END:VEVENT
BEGIN:VEVENT
DTSTART;TZID=Europe/Rome:20260114T093000
DTEND;TZID=Europe/Rome:20260114T113000
DTSTAMP:20260425T140909
CREATED:20260128T162150Z
LAST-MODIFIED:20260128T162150Z
UID:10000093-1768383000-1768390200@heritage.miroglio.com
SUMMARY:CORSO DI PITTURA
DESCRIPTION:
URL:https://heritage.miroglio.com/event/corso-di-pittura/
LOCATION:Sala Miroglio Heritage\, Via Santa Barbara 11\, Alba
CATEGORIES:COMMISSIONE CRESCERE
END:VEVENT
BEGIN:VEVENT
DTSTART;TZID=Europe/Rome:20260119T090000
DTEND;TZID=Europe/Rome:20260119T120000
DTSTAMP:20260425T140909
CREATED:20260128T165052Z
LAST-MODIFIED:20260128T165109Z
UID:10000104-1768813200-1768824000@heritage.miroglio.com
SUMMARY:CORSO DI CUCINA
DESCRIPTION:
URL:https://heritage.miroglio.com/event/corso-di-cucina/
LOCATION:APRO\, Alba
CATEGORIES:COMMISSIONE CRESCERE
END:VEVENT
BEGIN:VEVENT
DTSTART;TZID=Europe/Rome:20260121T093000
DTEND;TZID=Europe/Rome:20260121T093000
DTSTAMP:20260425T140909
CREATED:20260128T162454Z
LAST-MODIFIED:20260128T163013Z
UID:10000094-1768987800-1768987800@heritage.miroglio.com
SUMMARY:CORSO DI PITTURA
DESCRIPTION:
URL:https://heritage.miroglio.com/event/corso-di-pittura-2/
LOCATION:Sala Miroglio Heritage\, Via Santa Barbara 11\, Alba
CATEGORIES:COMMISSIONE CRESCERE
END:VEVENT
BEGIN:VEVENT
DTSTART;TZID=Europe/Rome:20260123T173000
DTEND;TZID=Europe/Rome:20260123T190000
DTSTAMP:20260425T140909
CREATED:20260128T165741Z
LAST-MODIFIED:20260128T165800Z
UID:10000108-1769189400-1769194800@heritage.miroglio.com
SUMMARY:MAL DI SCHIENA E DOLORE CERVICALE - DOTT. RANDO
DESCRIPTION:
URL:https://heritage.miroglio.com/event/mal-di-schiena-e-dolore-cervicale-dott-rando/
LOCATION:PALABLACK
CATEGORIES:COMMISSIONE CRESCERE
END:VEVENT
BEGIN:VEVENT
DTSTART;TZID=Europe/Rome:20260126T090000
DTEND;TZID=Europe/Rome:20260126T120000
DTSTAMP:20260425T140909
CREATED:20260128T165229Z
LAST-MODIFIED:20260128T165240Z
UID:10000105-1769418000-1769428800@heritage.miroglio.com
SUMMARY:CORSO DI CUCINA
DESCRIPTION:
URL:https://heritage.miroglio.com/event/corso-di-cucina-2/
LOCATION:APRO\, Alba
CATEGORIES:COMMISSIONE CRESCERE
END:VEVENT
BEGIN:VEVENT
DTSTART;TZID=Europe/Rome:20260128T093000
DTEND;TZID=Europe/Rome:20260128T093000
DTSTAMP:20260425T140909
CREATED:20260128T162616Z
LAST-MODIFIED:20260128T163116Z
UID:10000097-1769592600-1769592600@heritage.miroglio.com
SUMMARY:CORSO DI PITTURA
DESCRIPTION:
URL:https://heritage.miroglio.com/event/corso-di-pittura-3/
LOCATION:Sala Miroglio Heritage\, Via Santa Barbara 11\, Alba
CATEGORIES:COMMISSIONE CRESCERE
END:VEVENT
BEGIN:VEVENT
DTSTART;TZID=Europe/Rome:20260202T090000
DTEND;TZID=Europe/Rome:20260202T120000
DTSTAMP:20260425T140909
CREATED:20260128T165349Z
LAST-MODIFIED:20260128T165417Z
UID:10000106-1770022800-1770033600@heritage.miroglio.com
SUMMARY:CORSO DI CUCINA
DESCRIPTION:
URL:https://heritage.miroglio.com/event/corso-di-cucina-3/
LOCATION:APRO\, Alba
CATEGORIES:COMMISSIONE CRESCERE
END:VEVENT
BEGIN:VEVENT
DTSTART;TZID=Europe/Rome:20260202T173000
DTEND;TZID=Europe/Rome:20260202T190000
DTSTAMP:20260425T140909
CREATED:20260128T165930Z
LAST-MODIFIED:20260128T170026Z
UID:10000109-1770053400-1770058800@heritage.miroglio.com
SUMMARY:MEMORIA E BENESSERE PSICOLOGICO - PARTE 1
DESCRIPTION:
URL:https://heritage.miroglio.com/event/memoria-e-benessere-psicologico-parte-1/
LOCATION:Sala Roma\, Via Santa Barbara 11\, Alba
CATEGORIES:COMMISSIONE CRESCERE
END:VEVENT
BEGIN:VEVENT
DTSTART;TZID=Europe/Rome:20260204T093000
DTEND;TZID=Europe/Rome:20260204T093000
DTSTAMP:20260425T140909
CREATED:20260128T162709Z
LAST-MODIFIED:20260128T164102Z
UID:10000095-1770197400-1770197400@heritage.miroglio.com
SUMMARY:CORSO DI PITTURA
DESCRIPTION:
URL:https://heritage.miroglio.com/event/corso-di-pittura-4/
LOCATION:Sala Miroglio Heritage\, Via Santa Barbara 11\, Alba
CATEGORIES:COMMISSIONE CRESCERE
END:VEVENT
BEGIN:VEVENT
DTSTART;TZID=Europe/Rome:20260209T090000
DTEND;TZID=Europe/Rome:20260209T120000
DTSTAMP:20260425T140909
CREATED:20260128T165523Z
LAST-MODIFIED:20260128T165544Z
UID:10000107-1770627600-1770638400@heritage.miroglio.com
SUMMARY:CORSO DI CUCINA
DESCRIPTION:
URL:https://heritage.miroglio.com/event/corso-di-cucina-4/
LOCATION:APRO\, Alba
CATEGORIES:COMMISSIONE CRESCERE
END:VEVENT
BEGIN:VEVENT
DTSTART;TZID=Europe/Rome:20260211T093000
DTEND;TZID=Europe/Rome:20260211T093000
DTSTAMP:20260425T140909
CREATED:20260128T162815Z
LAST-MODIFIED:20260128T162910Z
UID:10000096-1770802200-1770802200@heritage.miroglio.com
SUMMARY:CORSO DI PITTURA
DESCRIPTION:
URL:https://heritage.miroglio.com/event/corso-di-pittura-5/
LOCATION:Sala Miroglio Heritage\, Via Santa Barbara 11\, Alba
CATEGORIES:COMMISSIONE CRESCERE
END:VEVENT
BEGIN:VEVENT
DTSTART;TZID=Europe/Rome:20260211T173000
DTEND;TZID=Europe/Rome:20260211T190000
DTSTAMP:20260425T140909
CREATED:20260128T170131Z
LAST-MODIFIED:20260128T170251Z
UID:10000110-1770831000-1770836400@heritage.miroglio.com
SUMMARY:MEMORIA E BENESSERE PSICOLOGICO - PARTE 2
DESCRIPTION:
URL:https://heritage.miroglio.com/event/memoria-e-benessere-psicologico-parte-2/
LOCATION:Sala Roma\, Via Santa Barbara 11\, Alba
CATEGORIES:COMMISSIONE CRESCERE
END:VEVENT
BEGIN:VEVENT
DTSTART;TZID=Europe/Rome:20260218T093000
DTEND;TZID=Europe/Rome:20260218T113000
DTSTAMP:20260425T140909
CREATED:20260128T163248Z
LAST-MODIFIED:20260128T163431Z
UID:10000098-1771407000-1771414200@heritage.miroglio.com
SUMMARY:CORSO DI PITTURA
DESCRIPTION:
URL:https://heritage.miroglio.com/event/corso-di-pittura-6/
LOCATION:Sala Miroglio Heritage\, Via Santa Barbara 11\, Alba
CATEGORIES:COMMISSIONE CRESCERE
END:VEVENT
BEGIN:VEVENT
DTSTART;TZID=Europe/Rome:20260219T173000
DTEND;TZID=Europe/Rome:20260219T190000
DTSTAMP:20260425T140909
CREATED:20260128T170622Z
LAST-MODIFIED:20260128T170646Z
UID:10000112-1771522200-1771527600@heritage.miroglio.com
SUMMARY:TRUFFE AGLI ANZIANI
DESCRIPTION:
URL:https://heritage.miroglio.com/event/truffe-agli-anziani/
LOCATION:Sala Roma\, Via Santa Barbara 11\, Alba
CATEGORIES:COMMISSIONE CRESCERE
END:VEVENT
BEGIN:VEVENT
DTSTART;TZID=Europe/Rome:20260221T080000
DTEND;TZID=Europe/Rome:20260221T180000
DTSTAMP:20260425T140909
CREATED:20260128T170432Z
LAST-MODIFIED:20260128T170432Z
UID:10000111-1771660800-1771696800@heritage.miroglio.com
SUMMARY:VISITA MOSTRA FERDINANDO SCIANNA - SALUZZO
DESCRIPTION:
URL:https://heritage.miroglio.com/event/visita-mostra-ferdinando-scianna-saluzzo/
LOCATION:Saluzzo
CATEGORIES:COMMISSIONE CRESCERE
END:VEVENT
BEGIN:VEVENT
DTSTART;TZID=Europe/Rome:20260225T093000
DTEND;TZID=Europe/Rome:20260225T113000
DTSTAMP:20260425T140909
CREATED:20260128T163614Z
LAST-MODIFIED:20260128T163634Z
UID:10000099-1772011800-1772019000@heritage.miroglio.com
SUMMARY:CORSO DI PITTURA
DESCRIPTION:
URL:https://heritage.miroglio.com/event/corso-di-pittura-7/
LOCATION:Sala Miroglio Heritage\, Via Santa Barbara 11\, Alba
CATEGORIES:COMMISSIONE CRESCERE
END:VEVENT
BEGIN:VEVENT
DTSTART;TZID=Europe/Rome:20260225T173000
DTEND;TZID=Europe/Rome:20260225T190000
DTSTAMP:20260425T140909
CREATED:20260128T170921Z
LAST-MODIFIED:20260128T170921Z
UID:10000113-1772040600-1772046000@heritage.miroglio.com
SUMMARY:AROMATERAPIA - DOTT.SSA SARTORIS
DESCRIPTION:
URL:https://heritage.miroglio.com/event/aromaterapia-dott-ssa-sartoris/
LOCATION:Sala Roma\, Via Santa Barbara 11\, Alba
CATEGORIES:COMMISSIONE CRESCERE
END:VEVENT
BEGIN:VEVENT
DTSTART;TZID=Europe/Rome:20260304T093000
DTEND;TZID=Europe/Rome:20260304T113000
DTSTAMP:20260425T140909
CREATED:20260128T164234Z
LAST-MODIFIED:20260128T164246Z
UID:10000102-1772616600-1772623800@heritage.miroglio.com
SUMMARY:CORSO DI PITTURA
DESCRIPTION:
URL:https://heritage.miroglio.com/event/corso-di-pittura-10/
LOCATION:Sala Miroglio Heritage\, Via Santa Barbara 11\, Alba
CATEGORIES:COMMISSIONE CRESCERE
END:VEVENT
BEGIN:VEVENT
DTSTART;TZID=Europe/Rome:20260305T080000
DTEND;TZID=Europe/Rome:20260305T190000
DTSTAMP:20260425T140909
CREATED:20260216T175820Z
LAST-MODIFIED:20260216T180247Z
UID:10000114-1772697600-1772737200@heritage.miroglio.com
SUMMARY:PREVENZIONE:DORMIRE BENE - SONNO RECUPERO
DESCRIPTION:
URL:https://heritage.miroglio.com/event/prevenzionedormire-bene-sonno-precupero/
LOCATION:Sala Roma\, Via Santa Barbara 11\, Alba
CATEGORIES:COMMISSIONE SOSTENERE
END:VEVENT
BEGIN:VEVENT
DTSTART;TZID=Europe/Rome:20260311T093000
DTEND;TZID=Europe/Rome:20260311T113000
DTSTAMP:20260425T140909
CREATED:20260128T163802Z
LAST-MODIFIED:20260128T163857Z
UID:10000100-1773221400-1773228600@heritage.miroglio.com
SUMMARY:CORSO DI PITTURA
DESCRIPTION:
URL:https://heritage.miroglio.com/event/corso-di-pittura-8/
LOCATION:Sala Miroglio Heritage\, Via Santa Barbara 11\, Alba
CATEGORIES:COMMISSIONE CRESCERE
END:VEVENT
BEGIN:VEVENT
DTSTART;TZID=Europe/Rome:20260316T080000
DTEND;TZID=Europe/Rome:20260316T190000
DTSTAMP:20260425T140909
CREATED:20260216T180045Z
LAST-MODIFIED:20260216T180045Z
UID:10000115-1773648000-1773687600@heritage.miroglio.com
SUMMARY:MANUTENZIONE EMOTIVA - lancio
DESCRIPTION:
URL:https://heritage.miroglio.com/event/manutenzione-emotiva-lancio/
LOCATION:Sala Roma\, Via Santa Barbara 11\, Alba
CATEGORIES:COMMISSIONE CRESCERE
END:VEVENT
BEGIN:VEVENT
DTSTART;TZID=Europe/Rome:20260318T093000
DTEND;TZID=Europe/Rome:20260318T113000
DTSTAMP:20260425T140909
CREATED:20260128T164000Z
LAST-MODIFIED:20260128T164014Z
UID:10000101-1773826200-1773833400@heritage.miroglio.com
SUMMARY:CORSO DI PITTURA
DESCRIPTION:
URL:https://heritage.miroglio.com/event/corso-di-pittura-9/
LOCATION:Sala Miroglio Heritage\, Via Santa Barbara 11\, Alba
CATEGORIES:COMMISSIONE CRESCERE
END:VEVENT
BEGIN:VEVENT
DTSTART;TZID=Europe/Rome:20260319T080000
DTEND;TZID=Europe/Rome:20260319T190000
DTSTAMP:20260425T140909
CREATED:20260216T180146Z
LAST-MODIFIED:20260216T180301Z
UID:10000116-1773907200-1773946800@heritage.miroglio.com
SUMMARY:PREVENZIONE: LABORATORIO DORMIRE BENE - SONNO RECUPERO
DESCRIPTION:
URL:https://heritage.miroglio.com/event/prevenzione-laboratorio-dormire-bene-sonno-precupero/
LOCATION:Sala Roma\, Via Santa Barbara 11\, Alba
CATEGORIES:COMMISSIONE SOSTENERE
END:VEVENT
BEGIN:VEVENT
DTSTART;TZID=Europe/Rome:20260325T080000
DTEND;TZID=Europe/Rome:20260325T190000
DTSTAMP:20260425T140909
CREATED:20260216T180429Z
LAST-MODIFIED:20260216T180429Z
UID:10000117-1774425600-1774465200@heritage.miroglio.com
SUMMARY:CORSO DI PITTURA
DESCRIPTION:
URL:https://heritage.miroglio.com/event/corso-di-pittura-11/
LOCATION:Sala Roma\, Via Santa Barbara 11\, Alba
CATEGORIES:COMMISSIONE CRESCERE
END:VEVENT
BEGIN:VEVENT
DTSTART;TZID=Europe/Rome:20260325T080000
DTEND;TZID=Europe/Rome:20260325T190000
DTSTAMP:20260425T140909
CREATED:20260216T180530Z
LAST-MODIFIED:20260216T180530Z
UID:10000118-1774425600-1774465200@heritage.miroglio.com
SUMMARY:CORSO DI CUCINA 2
DESCRIPTION:
URL:https://heritage.miroglio.com/event/corso-di-cucina-2-2/
LOCATION:Apro Formazione\, Alba
CATEGORIES:COMMISSIONE CRESCERE
END:VEVENT
BEGIN:VEVENT
DTSTART;TZID=Europe/Rome:20260326T080000
DTEND;TZID=Europe/Rome:20260326T190000
DTSTAMP:20260425T140909
CREATED:20260216T180608Z
LAST-MODIFIED:20260216T180608Z
UID:10000119-1774512000-1774551600@heritage.miroglio.com
SUMMARY:PERSONAGGI STORICI ALBESI
DESCRIPTION:
URL:https://heritage.miroglio.com/event/personaggi-storici-albesi/
LOCATION:Sala Roma\, Via Santa Barbara 11\, Alba
CATEGORIES:COMMISSIONE CRESCERE
END:VEVENT
BEGIN:VEVENT
DTSTART;TZID=Europe/Rome:20260330T080000
DTEND;TZID=Europe/Rome:20260330T190000
DTSTAMP:20260425T140909
CREATED:20260216T180641Z
LAST-MODIFIED:20260216T180641Z
UID:10000120-1774857600-1774897200@heritage.miroglio.com
SUMMARY:MANUTENZIONE EMOTIVA 1
DESCRIPTION:
URL:https://heritage.miroglio.com/event/manutenzione-emotiva-1/
LOCATION:Sala Roma\, Via Santa Barbara 11\, Alba
CATEGORIES:COMMISSIONE CRESCERE
END:VEVENT
END:VCALENDAR